{"text_format":"3","workbook":"xlsx","n_sheets":1,"sheets":["Sheet1"],"not_rendered":{"external_links":1},"read":"whole","date_system":"1900"}

{"sheet":"Sheet1","index":0,"n_rows":19,"n_cols":10,"rows_kept":19,"merged":[[0,1,0,3],[18,3,18,4]]}
["Школа","ФМБОУ лицея с.Месягутово СОШ в с.Ариево им.М.Нафикова",null,null,"Отд./корп",{"$nulls":3},"День 4"," 02.09.2021"]
[]
["Прием пищи","Раздел","№ рец.","Блюдо","Выход, г","Цена","Калорийность","Белки","Жиры","Углеводы"]
["Завтрак",{"$f":"[1]Sheet1!B5","v":"гор. блюдо"},{"$f":"[1]Sheet1!C5","v":"492"},{"$f":"[1]Sheet1!D5","v":"Плов из курицы"},{"$f":"[1]Sheet1!E5","v":"200"},{"$f":"[1]Sheet1!F5","v":{"v":0,"d":"0.0"}},{"$f":"[1]Sheet1!G5","v":"466,00"},{"$f":"[1]Sheet1!H5","v":"19,60"},{"$f":"[1]Sheet1!I5","v":"28,30"},{"$f":"[1]Sheet1!J5","v":"31,60"}]
[null,{"$f":"[1]Sheet1!B6","v":"гор.напиток"},{"$f":"[1]Sheet1!C6","v":0},{"$f":"[1]Sheet1!D6","v":"Чай фруктово-витаминный"},{"$f":"[1]Sheet1!E6","v":"200"},{"$f":"[1]Sheet1!F6","v":{"v":0,"d":"0.0"}},{"$f":"[1]Sheet1!G6","v":{"v":0,"d":"0.00"}},{"$f":"[1]Sheet1!H6","v":{"v":0,"d":"0.00"}},{"$f":"[1]Sheet1!I6","v":{"v":0,"d":"0.00"}},{"$f":"[1]Sheet1!J6","v":{"v":0,"d":"0.00"}}]
[null,{"$f":"[1]Sheet1!B7","v":"хлеб бел."},{"$f":"[1]Sheet1!C7","v":"ТК 5"},{"$f":"[1]Sheet1!D7","v":"Хлеб пшеничный"},{"$f":"[1]Sheet1!E7","v":"20"},{"$f":"[1]Sheet1!F7","v":{"v":0,"d":"0.0"}},{"$f":"[1]Sheet1!G7","v":"47,00"},{"$f":"[1]Sheet1!H7","v":"1,52"},{"$f":"[1]Sheet1!I7","v":"0,16"},{"$f":"[1]Sheet1!J7","v":"9,84"}]
[null,{"$f":"[1]Sheet1!B8","v":"хлеб черн."},{"$f":"[1]Sheet1!C8","v":"ТК4"},{"$f":"[1]Sheet1!D8","v":"Хлеб ржаной"},{"$f":"[1]Sheet1!E8","v":"30"},{"$f":"[1]Sheet1!F8","v":{"v":0,"d":"0.0"}},{"$f":"[1]Sheet1!G8","v":"63,00"},{"$f":"[1]Sheet1!H8","v":"1,47"},{"$f":"[1]Sheet1!I8","v":"0,30"},{"$f":"[1]Sheet1!J8","v":"13,44"}]
[null,{"$f":"[1]Sheet1!B9","v":"54-1з-2020"},{"$f":"[1]Sheet1!C9","v":0},{"$f":"[1]Sheet1!D9","v":"Сыр порционный"},{"$f":"[1]Sheet1!E9","v":"15"},{"$f":"[1]Sheet1!F9","v":{"v":0,"d":"0.0"}},{"$f":"[1]Sheet1!G9","v":"53,70"},{"$f":"[1]Sheet1!H9","v":"3,50"},{"$f":"[1]Sheet1!I9","v":"4,40"},{"$f":"[1]Sheet1!J9","v":"0,00"}]
[null,{"$f":"[1]Sheet1!B10","v":0},{"$f":"[1]Sheet1!C10","v":0},{"$f":"[1]Sheet1!D10","v":0},{"$f":"[1]Sheet1!E10","v":0},{"$f":"[1]Sheet1!F10","v":{"v":0,"d":"0.00"}},{"$f":"[1]Sheet1!G10","v":{"v":0,"d":"0.00"}},{"$f":"[1]Sheet1!H10","v":{"v":0,"d":"0.00"}},{"$f":"[1]Sheet1!I10","v":{"v":0,"d":"0.00"}},{"$f":"[1]Sheet1!J10","v":{"v":0,"d":"0.00"}}]
["Обед",{"$f":"[1]Sheet1!B11","v":"закуска"},{"$f":"[1]Sheet1!C11","v":"21"},{"$f":"[1]Sheet1!D11","v":"Салат Здоровье"},{"$f":"[1]Sheet1!E11","v":"60"},{"$f":"[1]Sheet1!F11","v":{"v":0,"d":"0.0"}},{"$f":"[1]Sheet1!G11","v":"48,00"},{"$f":"[1]Sheet1!H11","v":"0,90"},{"$f":"[1]Sheet1!I11","v":"3,06"},{"$f":"[1]Sheet1!J11","v":"4,32"}]
[null,{"$f":"[1]Sheet1!B12","v":"1 блюдо"},{"$f":"[1]Sheet1!C12","v":"110"},{"$f":"[1]Sheet1!D12","v":"Борщ с капустой и картофелем со сметаной"},{"$f":"[1]Sheet1!E12","v":"250/10"},{"$f":"[1]Sheet1!F12","v":{"v":0,"d":"0.0"}},{"$f":"[1]Sheet1!G12","v":"97,00"},{"$f":"[1]Sheet1!H12","v":"1,70"},{"$f":"[1]Sheet1!I12","v":"5,00"},{"$f":"[1]Sheet1!J12","v":"11,60"}]
[null,{"$f":"[1]Sheet1!B13","v":"2 блюдо"},{"$f":"[1]Sheet1!C13","v":141},{"$f":"[1]Sheet1!D13","v":"Каша гречневая рассыпчатая с мясом"},{"$f":"[1]Sheet1!E13","v":"230"},{"$f":"[1]Sheet1!F13","v":{"v":0,"d":"0.0"}},{"$f":"[1]Sheet1!G13","v":{"v":363,"d":"363.00"}},{"$f":"[1]Sheet1!H13","v":"24,66"},{"$f":"[1]Sheet1!I13","v":8.71},{"$f":"[1]Sheet1!J13","v":"54,39"}]
[null,{"$f":"[1]Sheet1!B14","v":"гарнир"},{"$f":"[1]Sheet1!C14","v":0},{"$f":"[1]Sheet1!D14","v":0},{"$f":"[1]Sheet1!E14","v":0},{"$f":"[1]Sheet1!F14","v":{"v":0,"d":"0.0"}},{"$f":"[1]Sheet1!G14","v":{"v":0,"d":"0.00"}},{"$f":"[1]Sheet1!H14","v":{"v":0,"d":"0.00"}},{"$f":"[1]Sheet1!I14","v":{"v":0,"d":"0.00"}},{"$f":"[1]Sheet1!J14","v":{"v":0,"d":"0.00"}}]
[null,{"$f":"[1]Sheet1!B15","v":"сладкое"},{"$f":"[1]Sheet1!C15","v":693},{"$f":"[1]Sheet1!D15","v":"какао с молоком"},{"$f":"[1]Sheet1!E15","v":"200"},{"$f":"[1]Sheet1!F15","v":{"v":0,"d":"0.0"}},{"$f":"[1]Sheet1!G15","v":{"v":98,"d":"98.00"}},{"$f":"[1]Sheet1!H15","v":{"v":3.6,"d":"3.60"}},{"$f":"[1]Sheet1!I15","v":{"v":3.3,"d":"3.30"}},{"$f":"[1]Sheet1!J15","v":"13,70"}]
[null,{"$f":"[1]Sheet1!B16","v":"хлеб бел."},{"$f":"[1]Sheet1!C16","v":"ТК 5"},{"$f":"[1]Sheet1!D16","v":"хлеб пшеничный"},{"$f":"[1]Sheet1!E16","v":20},{"$f":"[1]Sheet1!F16","v":{"v":0,"d":"0.0"}},{"$f":"[1]Sheet1!G16","v":{"v":47,"d":"47.00"}},{"$f":"[1]Sheet1!H16","v":1.52},{"$f":"[1]Sheet1!I16","v":0.16},{"$f":"[1]Sheet1!J16","v":9.84}]
[null,{"$f":"[1]Sheet1!B17","v":"хлеб черн."},{"$f":"[1]Sheet1!C17","v":"ТК4"},{"$f":"[1]Sheet1!D17","v":"хлеб ржаной"},{"$f":"[1]Sheet1!E17","v":30},{"$f":"[1]Sheet1!F17","v":{"v":0,"d":"0.0"}},{"$f":"[1]Sheet1!G17","v":{"v":63,"d":"63.00"}},{"$f":"[1]Sheet1!H17","v":1.47},{"$f":"[1]Sheet1!I17","v":{"v":0.3,"d":"0.30"}},{"$f":"[1]Sheet1!J17","v":13.44}]
[]
[]
[{"$nulls":3},"Старший повар:_____________Кабирова Г.Х."]